Workbook

Sheet Summary
B1: Paediatric Neurology
B2: Annual Budget 2022/23 - 2025/26
A4: Acc_code | B4: Acc_code | C4: Description | D4: 2022/23 | E4: 2023/24 | F4: 2024/25 | G4: 2025/26
A5: 100A2104 | B5: =TRIM(A5) -> 100A2104 | C5: CONSULTANT AGENCY | D5: =IFERROR(_xlfn.XLOOKUP(A7,'Pay2223'!A:A,'Pay2223'!L:L),0) -> 0 | E5: =IFERROR(_xlfn.XLOOKUP(A5,'Pay2324'!A:A,'Pay2324'!L:L),0) -> 0 | F5: =IFERROR(_xlfn.XLOOKUP(A5,'Pay2425'!A:A,'Pay2425'!L:L),0) -> 0 | G5: =IFERROR(_xlfn.XLOOKUP(A5,'Pay2526'!A:A,'Pay2526'!L:L),0) -> 0
A6: 100A3004 | B6: =TRIM(A6) -> 100A3004 | C6: SPECIALIST REGISTRAR AGENCY | D6: =IFERROR(_xlfn.XLOOKUP(A8,'Pay2223'!A:A,'Pay2223'!L:L),0) -> 0 | E6: =IFERROR(_xlfn.XLOOKUP(A6,'Pay2324'!A:A,'Pay2324'!L:L),0) -> 0 | F6: =IFERROR(_xlfn.XLOOKUP(A6,'Pay2425'!A:A,'Pay2425'!L:L),0) -> 0 | G6: =IFERROR(_xlfn.XLOOKUP(A6,'Pay2526'!A:A,'Pay2526'!L:L),0) -> 0
A7: 100A3104 | B7: =TRIM(A7) -> 100A3104 | C7: FOUND H/OFFICER 1 (F1) AGENCY | D7: =IFERROR(_xlfn.XLOOKUP(A9,'Pay2223'!A:A,'Pay2223'!L:L),0) -> 0 | E7: =IFERROR(_xlfn.XLOOKUP(A7,'Pay2324'!A:A,'Pay2324'!L:L),0) -> 0 | F7: =IFERROR(_xlfn.XLOOKUP(A7,'Pay2425'!A:A,'Pay2425'!L:L),0) -> 0 | G7: =IFERROR(_xlfn.XLOOKUP(A7,'Pay2526'!A:A,'Pay2526'!L:L),0) -> 0
A8: 100A3504 | B8: =TRIM(A8) -> 100A3504 | C8: SPECIALTY REGISTRAR AGENCY | D8: =IFERROR(_xlfn.XLOOKUP(A10,'Pay2223'!A:A,'Pay2223'!L:L),0) -> 0 | E8: =IFERROR(_xlfn.XLOOKUP(A8,'Pay2324'!A:A,'Pay2324'!L:L),0) -> 0 | F8: =IFERROR(_xlfn.XLOOKUP(A8,'Pay2425'!A:A,'Pay2425'!L:L),0) -> 0 | G8: =IFERROR(_xlfn.XLOOKUP(A8,'Pay2526'!A:A,'Pay2526'!L:L),0) -> 0
A9: 100A6104 | B9: =TRIM(A9) -> 100A6104 | C9: SPECIALIST AGENCY | D9: =IFERROR(_xlfn.XLOOKUP(A11,'Pay2223'!A:A,'Pay2223'!L:L),0) -> 0 | E9: =IFERROR(_xlfn.XLOOKUP(A9,'Pay2324'!A:A,'Pay2324'!L:L),0) -> 0 | F9: =IFERROR(_xlfn.XLOOKUP(A9,'Pay2425'!A:A,'Pay2425'!L:L),0) -> 0 | G9: =IFERROR(_xlfn.XLOOKUP(A9,'Pay2526'!A:A,'Pay2526'!L:L),0) -> 0
A10: 100A2101 | B10: =TRIM(A10) -> 100A2101 | C10: CONSULTANT | D10: =IFERROR(_xlfn.XLOOKUP(A12,'Pay2223'!A:A,'Pay2223'!L:L),0) -> 0 | E10: =IFERROR(_xlfn.XLOOKUP(A10,'Pay2324'!A:A,'Pay2324'!L:L),0) -> 0 | F10: =IFERROR(_xlfn.XLOOKUP(A10,'Pay2425'!A:A,'Pay2425'!L:L),0) -> 749124 | G10: =IFERROR(_xlfn.XLOOKUP(A10,'Pay2526'!A:A,'Pay2526'!L:L),0) -> 869714
A11: 100A2801 | B11: =TRIM(A11) -> 100A2801 | C11: SPECIALTY DOCTOR (NC) | D11: =IFERROR(_xlfn.XLOOKUP(A13,'Pay2223'!A:A,'Pay2223'!L:L),0) -> 0 | E11: =IFERROR(_xlfn.XLOOKUP(A11,'Pay2324'!A:A,'Pay2324'!L:L),0) -> 0 | F11: =IFERROR(_xlfn.XLOOKUP(A11,'Pay2425'!A:A,'Pay2425'!L:L),0) -> 98605 | G11: =IFERROR(_xlfn.XLOOKUP(A11,'Pay2526'!A:A,'Pay2526'!L:L),0) -> 104015
A12: 100A3501 | B12: =TRIM(A12) -> 100A3501 | C12: SPECIALTY REGISTRAR FULL M241 | D12: =IFERROR(_xlfn.XLOOKUP(A14,'Pay2223'!A:A,'Pay2223'!L:L),0) -> 0 | E12: =IFERROR(_xlfn.XLOOKUP(A12,'Pay2324'!A:A,'Pay2324'!L:L),0) -> 0 | F12: =IFERROR(_xlfn.XLOOKUP(A12,'Pay2425'!A:A,'Pay2425'!L:L),0) -> 0 | G12: =IFERROR(_xlfn.XLOOKUP(A12,'Pay2526'!A:A,'Pay2526'!L:L),0) -> 0
A13: 200A0301 | B13: =TRIM(A13) -> 200A0301 | C13: B3 NURSE SUPPORT | D13: =IFERROR(_xlfn.XLOOKUP(A15,'Pay2223'!A:A,'Pay2223'!L:L),0) -> 0 | E13: =IFERROR(_xlfn.XLOOKUP(A13,'Pay2324'!A:A,'Pay2324'!L:L),0) -> 0 | F13: =IFERROR(_xlfn.XLOOKUP(A13,'Pay2425'!A:A,'Pay2425'!L:L),0) -> 0 | G13: =IFERROR(_xlfn.XLOOKUP(A13,'Pay2526'!A:A,'Pay2526'!L:L),0) -> 0
A14: 314A0401 | B14: =TRIM(A14) -> 314A0401 | C14: B4 MTO | D14: =IFERROR(_xlfn.XLOOKUP(A16,'Pay2223'!A:A,'Pay2223'!L:L),0) -> 48879 | E14: =IFERROR(_xlfn.XLOOKUP(A14,'Pay2324'!A:A,'Pay2324'!L:L),0) -> 0 | F14: =IFERROR(_xlfn.XLOOKUP(A14,'Pay2425'!A:A,'Pay2425'!L:L),0) -> 0 | G14: =IFERROR(_xlfn.XLOOKUP(A14,'Pay2526'!A:A,'Pay2526'!L:L),0) -> 0
A15: 314A0501 | B15: =TRIM(A15) -> 314A0501 | C15: B5 MTO | D15: =IFERROR(_xlfn.XLOOKUP(A17,'Pay2223'!A:A,'Pay2223'!L:L),0) -> 63990 | E15: =IFERROR(_xlfn.XLOOKUP(A15,'Pay2324'!A:A,'Pay2324'!L:L),0) -> 0 | F15: =IFERROR(_xlfn.XLOOKUP(A15,'Pay2425'!A:A,'Pay2425'!L:L),0) -> 0 | G15: =IFERROR(_xlfn.XLOOKUP(A15,'Pay2526'!A:A,'Pay2526'!L:L),0) -> 0
A16: 314A0601 | B16: =TRIM(A16) -> 314A0601 | C16: B6 MTO | D16: =IFERROR(_xlfn.XLOOKUP(A18,'Pay2223'!A:A,'Pay2223'!L:L),0) -> 66245 | E16: =IFERROR(_xlfn.XLOOKUP(A16,'Pay2324'!A:A,'Pay2324'!L:L),0) -> 48893.55 | F16: =IFERROR(_xlfn.XLOOKUP(A16,'Pay2425'!A:A,'Pay2425'!L:L),0) -> 54572 | G16: =IFERROR(_xlfn.XLOOKUP(A16,'Pay2526'!A:A,'Pay2526'!L:L),0) -> 57593
... A18: 314A0801 | B18: =TRIM(A18) -> 314A0801 | C18: B8A MTO | D18: =IFERROR(_xlfn.XLOOKUP(A20,'Pay2223'!A:A,'Pay2223'!L:L),0) -> 0 | E18: =IFERROR(_xlfn.XLOOKUP(A18,'Pay2324'!A:A,'Pay2324'!L:L),0) -> 65965.148 | F18: =IFERROR(_xlfn.XLOOKUP(A18,'Pay2425'!A:A,'Pay2425'!L:L),0) -> 76086 | G18: =IFERROR(_xlfn.XLOOKUP(A18,'Pay2526'!A:A,'Pay2526'!L:L),0) -> 80079
B19: Total Pay Budget | D19: =SUM(D5:D18) -> 179114 | E19: =SUM(E5:E18) -> 178590.25 | F19: =SUM(F5:F18) -> 1049480 | G19: =SUM(G5:G18) -> 1186261
B21: Acc_code | C21: Description | D21: 2022/23 | E21: 2023/24 | F21: 2024/25 | G21: 2025/26
A22: 300B1200 | B22: =TRIM(A22) -> 300B1200 | C22: DI&R CONSUMABLES | D22: =IFERROR(_xlfn.XLOOKUP(A7,'G&S2223'!A:A,'G&S2223'!L:L),0) -> 0 | E22: =IFERROR(_xlfn.XLOOKUP(A22,'G&S2324'!A:A,'G&S2324'!L:L),0) -> 0 | F22: =IFERROR(_xlfn.XLOOKUP(A22,'G&S2425'!A:A,'G&S2425'!L:L),0) -> 0 | G22: =IFERROR(_xlfn.XLOOKUP(A22,'G&S2526'!A:A,'G&S2526'!L:L),0) -> 0
A23: 300B1210 | B23: =TRIM(A23) -> 300B1210 | C23: DI&R EQUIPMENT | D23: =IFERROR(_xlfn.XLOOKUP(A8,'G&S2223'!A:A,'G&S2223'!L:L),0) -> 0 | E23: =IFERROR(_xlfn.XLOOKUP(A23,'G&S2324'!A:A,'G&S2324'!L:L),0) -> 0 | F23: =IFERROR(_xlfn.XLOOKUP(A23,'G&S2425'!A:A,'G&S2425'!L:L),0) -> 0 | G23: =IFERROR(_xlfn.XLOOKUP(A23,'G&S2526'!A:A,'G&S2526'!L:L),0) -> 0
A24: 301B2200 | B24: =TRIM(A24) -> 301B2200 | C24: DRUGS - GENERAL | D24: =IFERROR(_xlfn.XLOOKUP(A9,'G&S2223'!A:A,'G&S2223'!L:L),0) -> 0 | E24: =IFERROR(_xlfn.XLOOKUP(A24,'G&S2324'!A:A,'G&S2324'!L:L),0) -> 0 | F24: =IFERROR(_xlfn.XLOOKUP(A24,'G&S2425'!A:A,'G&S2425'!L:L),0) -> 0 | G24: =IFERROR(_xlfn.XLOOKUP(A24,'G&S2526'!A:A,'G&S2526'!L:L),0) -> 0
A25: 301B3200 | B25: =TRIM(A25) -> 301B3200 | C25: DRESSINGS | D25: =IFERROR(_xlfn.XLOOKUP(A10,'G&S2223'!A:A,'G&S2223'!L:L),0) -> 0 | E25: =IFERROR(_xlfn.XLOOKUP(A25,'G&S2324'!A:A,'G&S2324'!L:L),0) -> 0 | F25: =IFERROR(_xlfn.XLOOKUP(A25,'G&S2425'!A:A,'G&S2425'!L:L),0) -> 0 | G25: =IFERROR(_xlfn.XLOOKUP(A25,'G&S2526'!A:A,'G&S2526'!L:L),0) -> 0
A26: 301B4200 | B26: =TRIM(A26) -> 301B4200 | C26: M&S SUPPLIES | D26: =IFERROR(_xlfn.XLOOKUP(A11,'G&S2223'!A:A,'G&S2223'!L:L),0) -> 0 | E26: =IFERROR(_xlfn.XLOOKUP(A26,'G&S2324'!A:A,'G&S2324'!L:L),0) -> 6000 | F26: =IFERROR(_xlfn.XLOOKUP(A26,'G&S2425'!A:A,'G&S2425'!L:L),0) -> 6000 | G26: =IFERROR(_xlfn.XLOOKUP(A26,'G&S2526'!A:A,'G&S2526'!L:L),0) -> 6000
A27: 301B4210 | B27: =TRIM(A27) -> 301B4210 | C27: M&S DISPOSABLES | D27: =IFERROR(_xlfn.XLOOKUP(A12,'G&S2223'!A:A,'G&S2223'!L:L),0) -> 0 | E27: =IFERROR(_xlfn.XLOOKUP(A27,'G&S2324'!A:A,'G&S2324'!L:L),0) -> 260 | F27: =IFERROR(_xlfn.XLOOKUP(A27,'G&S2425'!A:A,'G&S2425'!L:L),0) -> 423 | G27: =IFERROR(_xlfn.XLOOKUP(A27,'G&S2526'!A:A,'G&S2526'!L:L),0) -> 302
A28: 301B4220 | B28: =TRIM(A28) -> 301B4220 | C28: M&S EQUIPMENT | D28: =IFERROR(_xlfn.XLOOKUP(A13,'G&S2223'!A:A,'G&S2223'!L:L),0) -> 0 | E28: =IFERROR(_xlfn.XLOOKUP(A28,'G&S2324'!A:A,'G&S2324'!L:L),0) -> 0 | F28: =IFERROR(_xlfn.XLOOKUP(A28,'G&S2425'!A:A,'G&S2425'!L:L),0) -> 0 | G28: =IFERROR(_xlfn.XLOOKUP(A28,'G&S2526'!A:A,'G&S2526'!L:L),0) -> 0
A29: 302B7200 | B29: =TRIM(A29) -> 302B7200 | C29: LAB CONSUMABLES | D29: =IFERROR(_xlfn.XLOOKUP(A14,'G&S2223'!A:A,'G&S2223'!L:L),0) -> 0 | E29: =IFERROR(_xlfn.XLOOKUP(A29,'G&S2324'!A:A,'G&S2324'!L:L),0) -> 0 | F29: =IFERROR(_xlfn.XLOOKUP(A29,'G&S2425'!A:A,'G&S2425'!L:L),0) -> 0 | G29: =IFERROR(_xlfn.XLOOKUP(A29,'G&S2526'!A:A,'G&S2526'!L:L),0) -> 0
A30: 302B7260 | B30: =TRIM(A30) -> 302B7260 | C30: LAB MISCELLANEOUS | D30: =IFERROR(_xlfn.XLOOKUP(A15,'G&S2223'!A:A,'G&S2223'!L:L),0) -> 0 | E30: =IFERROR(_xlfn.XLOOKUP(A30,'G&S2324'!A:A,'G&S2324'!L:L),0) -> 0 | F30: =IFERROR(_xlfn.XLOOKUP(A30,'G&S2425'!A:A,'G&S2425'!L:L),0) -> 0 | G30: =IFERROR(_xlfn.XLOOKUP(A30,'G&S2526'!A:A,'G&S2526'!L:L),0) -> 0
A31: 302B7910 | B31: =TRIM(A31) -> 302B7910 | C31: LAB RECHARGES EXTERNAL | D31: =IFERROR(_xlfn.XLOOKUP(A16,'G&S2223'!A:A,'G&S2223'!L:L),0) -> 0 | E31: =IFERROR(_xlfn.XLOOKUP(A31,'G&S2324'!A:A,'G&S2324'!L:L),0) -> 0 | F31: =IFERROR(_xlfn.XLOOKUP(A31,'G&S2425'!A:A,'G&S2425'!L:L),0) -> 0 | G31: =IFERROR(_xlfn.XLOOKUP(A31,'G&S2526'!A:A,'G&S2526'!L:L),0) -> 0
A32: 520B1200 | B32: =TRIM(A32) -> 520B1200 | C32: CLEANING SUPPLIES | D32: =IFERROR(_xlfn.XLOOKUP(A17,'G&S2223'!A:A,'G&S2223'!L:L),0) -> 0 | E32: =IFERROR(_xlfn.XLOOKUP(A32,'G&S2324'!A:A,'G&S2324'!L:L),0) -> 0 | F32: =IFERROR(_xlfn.XLOOKUP(A32,'G&S2425'!A:A,'G&S2425'!L:L),0) -> 0 | G32: =IFERROR(_xlfn.XLOOKUP(A32,'G&S2526'!A:A,'G&S2526'!L:L),0) -> 0
A33: 520B1210 | B33: =TRIM(A33) -> 520B1210 | C33: CLEANING EQUIPMENT | D33: =IFERROR(_xlfn.XLOOKUP(A18,'G&S2223'!A:A,'G&S2223'!L:L),0) -> 0 | E33: =IFERROR(_xlfn.XLOOKUP(A33,'G&S2324'!A:A,'G&S2324'!L:L),0) -> 0 | F33: =IFERROR(_xlfn.XLOOKUP(A33,'G&S2425'!A:A,'G&S2425'!L:L),0) -> 0 | G33: =IFERROR(_xlfn.XLOOKUP(A33,'G&S2526'!A:A,'G&S2526'!L:L),0) -> 0
... A57: 650B9997 | B57: =TRIM(A57) -> 650B9997 | C57: DEFAULT PURCHASES ACCOUNT | D57: =IFERROR(_xlfn.XLOOKUP(A42,'G&S2223'!A:A,'G&S2223'!L:L),0) -> 0 | E57: =IFERROR(_xlfn.XLOOKUP(A57,'G&S2324'!A:A,'G&S2324'!L:L),0) -> 0 | F57: =IFERROR(_xlfn.XLOOKUP(A57,'G&S2425'!A:A,'G&S2425'!L:L),0) -> 0 | G57: =IFERROR(_xlfn.XLOOKUP(A57,'G&S2526'!A:A,'G&S2526'!L:L),0) -> 0
B58: Total G&S Budget | D58: =SUM(D22:D57) -> 6000 | E58: =SUM(E22:E57) -> 6329 | F58: =SUM(F22:F57) -> 6545 | G58: =SUM(G22:G57) -> 6338
B60: Total Budget | D60: =D19+D58 -> 185114 | E60: =E19+E58 -> 184919.25 | F60: =F19+F58 -> 1056025 | G60: =G19+G58 -> 1192599

Sheet Pay2526
A2: Full Cube - Full cube data
A3: A1P320 - PAEDS NEUROLOGY / EEG
A4: MODEL_A-act-1 - .
A5: 4APAY000 - STAFF COSTS
A6: /FY25/12 - March
A7: S2
C8: CURRENT PERIOD | F8: YTD | I8: WHOLE TIME EQUIVALENT | L8: FULL ALLOCATION | M8: FULL NOTE | N8: COMMENTS
C9: BUDGET | D9: ACTUALS | E9: VARIANCE | F9: BUDGET | G9: ACTUALS | H9: VARIANCE | I9: FSL | J9: WTE | K9: VAR
A10: A1P320 | B10: PAEDS NEUROLOGY / EEG | C10: 99288.078 | D10: 102318.14 | E10: 3030.062 | F10: 1186261 | G10: 1251427.1 | H10: 65166.089 | I10: 8.5 | J10: 7.93 | K10: -0.57 | L10: 1186261
A11: 100A2104 | B11: CONSULTANT AGENCY | C11: 0 | D11: 119513.09 | E11: 119513.09 | F11: 0 | G11: 464573.87 | H11: 464573.87 | I11: 0 | J11: 1.93 | K11: 1.93 | L11: 0
A12: 100A3004 | B12: SPECIALIST REGISTRAR AGENCY | C12: 0 | D12: -80509 | E12: -80509 | F12: 0 | G12: 0 | H12: 0 | I12: 0 | J12: 0 | K12: 0 | L12: 0
A13: 100A3104 | B13: FOUND H/OFFICER 1 (F1) AGENCY | C13: 0 | D13: 0 | E13: 0 | F13: 0 | G13: 0 | H13: 0 | I13: 0 | J13: 0 | K13: 0 | L13: 0
A14: 100A3504 | B14: SPECIALTY REGISTRAR AGENCY | C14: 0 | D14: 0 | E14: 0 | F14: 0 | G14: 0 | H14: 0 | I14: 0 | J14: 0 | K14: 0 | L14: 0
A15: 100A6104 | B15: SPECIALIST AGENCY | C15: 0 | D15: 0 | E15: 0 | F15: 0 | G15: 0 | H15: 0 | I15: 0 | J15: 0 | K15: 0 | L15: 0
A16: 100A2101 | B16: CONSULTANT | C16: 72795.062 | D16: 39102.08 | E16: -33692.982 | F16: 869714 | G16: 540480.1 | H16: -329233.9 | I16: 4.5 | J16: 1.2 | K16: -3.3 | L16: 869714
A17: 100A2801 | B17: SPECIALTY DOCTOR (NC) | C17: 8706.0552 | D17: 0 | E17: -8706.0552 | F17: 104015 | G17: 0 | H17: -104015 | I17: 1 | J17: 0 | K17: -1 | L17: 104015
A18: 100A3501 | B18: SPECIALTY REGISTRAR FULL M241 | C18: 0 | D18: 5266.67 | E18: 5266.67 | F18: 0 | G18: 10385.47 | H18: 10385.47 | I18: 0 | J18: 1 | K18: 1 | L18: 0
A19: 200A0301 | B19: B3 NURSE SUPPORT | C19: 0 | D19: 2653.58 | E19: 2653.58 | F19: 0 | G19: 31823.88 | H19: 31823.88 | I19: 0 | J19: 0.89 | K19: 0.89 | L19: 0
A20: 314A0401 | B20: B4 MTO | C20: 0 | D20: 0 | E20: 0 | F20: 0 | G20: 10150.44 | H20: 10150.44 | I20: 0 | J20: 0 | K20: 0 | L20: 0
A21: 314A0501 | B21: B5 MTO | C21: 0 | D21: 4290.29 | E21: 4290.29 | F21: 0 | G21: 40218.98 | H21: 40218.98 | I21: 0 | J21: 1 | K21: 1 | L21: 0
... A24: 314A0801 | B24: B8A MTO | C24: 6702.6123 | D24: 6351.07 | E24: -351.5423 | F24: 80079 | G24: 82620.03 | H24: 2541.03 | I24: 1 | J24: 1 | K24: 0 | L24: 80079

Sheet Pay2425
A2: Full Cube - Full cube data
A3: A1P320 - PAEDS NEUROLOGY / EEG
A4: MODEL_A-act-1 - .
A5: 4APAY000 - STAFF COSTS
A6: /FY24/12 - March
A7: S2
C8: CURRENT PERIOD | F8: YTD | I8: WHOLE TIME EQUIVALENT | L8: FULL ALLOCATION | M8: FULL NOTE | N8: COMMENTS
C9: BUDGET | D9: ACTUALS | E9: VARIANCE | F9: BUDGET | G9: ACTUALS | H9: VARIANCE | I9: FSL | J9: WTE | K9: VAR
A10: A1P320 | B10: PAEDS NEUROLOGY / EEG | C10: 144672.32 | D10: 104859.75 | E10: -39812.573 | F10: 1049480 | G10: 1253996.2 | H10: 204516.2 | I10: 8 | J10: 8.33 | K10: 0.33 | L10: 1049480
A11: 100A2104 | B11: CONSULTANT AGENCY | C11: 0 | D11: 5573.07 | E11: 5573.07 | F11: 0 | G11: 499527.68 | H11: 499527.68 | I11: 0 | J11: 2.33 | K11: 2.33 | L11: 0
A12: 100A2101 | B12: CONSULTANT | C12: 100633.8 | D12: 72946.94 | E12: -27686.862 | F12: 749124 | G12: 563508.24 | H12: -185615.76 | I12: 4 | J12: 2.2 | K12: -1.8 | L12: 749124
A13: 100A2801 | B13: SPECIALTY DOCTOR (NC) | C13: 15162.316 | D13: 0 | E13: -15162.316 | F13: 98605 | G13: 0 | H13: -98605 | I13: 1 | J13: 0 | K13: -1 | L13: 98605
A14: 200A0301 | B14: B3 NURSE SUPPORT | C14: 0 | D14: 3957.24 | E14: 3957.24 | F14: 0 | G14: 30227.63 | H14: 30227.63 | I14: 0 | J14: 0.89 | K14: 0.89 | L14: 0
A15: 314A0401 | B15: B4 MTO | C15: 0 | D15: 5125.62 | E15: 5125.62 | F15: 0 | G15: 38683.35 | H15: 38683.35 | I15: 0 | J15: 1 | K15: 1 | L15: 0
A16: 314A0601 | B16: B6 MTO | C16: 7233.977 | D16: 0 | E16: -7233.977 | F16: 54572 | G16: 0 | H16: -54572 | I16: 1 | J16: 0 | K16: -1 | L16: 54572
A17: 314A0701 | B17: B7 MTO | C17: 9406.762 | D17: 8496.76 | E17: -910.002 | F17: 71093 | G17: 62559.49 | H17: -8533.51 | I17: 1 | J17: 0.91 | K17: -0.09 | L17: 71093
A18: 314A0801 | B18: B8A MTO | C18: 12235.466 | D18: 8760.12 | E18: -3475.346 | F18: 76086 | G18: 59489.81 | H18: -16596.19 | I18: 1 | J18: 1 | K18: 0 | L18: 76086

Sheet Pay2324
A2: Full Cube - Full cube data
A3: A1P320 - PAEDS NEUROLOGY / EEG
A4: MODEL_A-act-1 - .
A5: 4APAY000 - STAFF COSTS
A6: /FY23/12 - March
A7: S2
C8: CURRENT PERIOD | F8: YTD | I8: WHOLE TIME EQUIVALENT | L8: FULL ALLOCATION | M8: FULL NOTE | N8: COMMENTS
C9: BUDGET | D9: ACTUALS | E9: VARIANCE | F9: BUDGET | G9: ACTUALS | H9: VARIANCE | I9: FSL | J9: WTE | K9: VAR
A10: A1P320 | B10: PAEDS NEUROLOGY / EEG | C10: 14971 | D10: 16519.59 | E10: 1548.59 | F10: 178590.25 | G10: 152371.98 | H10: -26218.274 | I10: 3 | J10: 3.89 | K10: 0.89 | L10: 178590.25
A11: 200A0301 | B11: B3 NURSE SUPPORT | C11: 0 | D11: 2229.65 | E11: 2229.65 | F11: 0 | G11: 26755.48 | H11: 26755.48 | I11: 0 | J11: 0.89 | K11: 0.89 | L11: 0
A12: 314A0401 | B12: B4 MTO | C12: 0 | D12: 2880.59 | E12: 2880.59 | F12: 0 | G12: 14820.99 | H12: 14820.99 | I12: 0 | J12: 1 | K12: 1 | L12: 0
A13: 314A0601 | B13: B6 MTO | C13: 4101 | D13: 0 | E13: -4101 | F13: 48893.55 | G13: 0 | H13: -48893.55 | I13: 1 | J13: 0 | K13: -1 | L13: 48893.55
A14: 314A0701 | B14: B7 MTO | C14: 5344 | D14: 5310.14 | E14: -33.86 | F14: 63731.556 | G14: 37604.99 | H14: -26126.566 | I14: 1 | J14: 1 | K14: 0 | L14: 63731.556
A15: 314A0801 | B15: B8A MTO | C15: 5526 | D15: 6099.21 | E15: 573.21 | F15: 65965.148 | G15: 73190.52 | H15: 7225.372 | I15: 1 | J15: 1 | K15: 0 | L15: 65965.148

Sheet Pay2223
A2: Full Cube - Full cube data
A3: A1P320 - PAEDS NEUROLOGY / EEG
A4: MODEL_A-act-1 - .
A5: 4APAY000 - STAFF COSTS
A6: /FY22/12 - March
A7: S2
C8: CURRENT PERIOD | F8: YTD | I8: WHOLE TIME EQUIVALENT | L8: FULL ALLOCATION | M8: FULL NOTE | N8: COMMENTS
C9: BUDGET | D9: ACTUALS | E9: VARIANCE | F9: BUDGET | G9: ACTUALS | H9: VARIANCE | I9: FSL | J9: WTE | K9: VAR
A10: A1P320 | B10: PAEDS NEUROLOGY / EEG | C10: 20761.228 | D10: 23374.34 | E10: 2613.112 | F10: 179114 | G10: 191452.16 | H10: 12338.16 | I10: 3 | J10: 3.89 | K10: 0.89 | L10: 179114
A11: 200A0301 | B11: B3 NURSE SUPPORT | C11: 0 | D11: 3780.83 | E11: 3780.83 | F11: 0 | G11: 26836.75 | H11: 26836.75 | I11: 0 | J11: 0.89 | K11: 0.89 | L11: 0
A12: 314A0401 | B12: B4 MTO | C12: 0 | D12: 4147.12 | E12: 4147.12 | F12: 0 | G12: 26920.55 | H12: 26920.55 | I12: 0 | J12: 1 | K12: 1 | L12: 0
A13: 314A0601 | B13: B6 MTO | C13: 5867.877 | D13: 0 | E13: -5867.877 | F13: 48879 | G13: 0 | H13: -48879 | I13: 1 | J13: 0 | K13: -1 | L13: 48879
A14: 314A0701 | B14: B7 MTO | C14: 7623.282 | D14: 7597.96 | E14: -25.322 | F14: 63990 | G14: 63996.18 | H14: 6.18 | I14: 1 | J14: 1 | K14: 0 | L14: 63990
A15: 314A0801 | B15: B8A MTO | C15: 7270.069 | D15: 7848.43 | E15: 578.361 | F15: 66245 | G15: 73698.68 | H15: 7453.68 | I15: 1 | J15: 1 | K15: 0 | L15: 66245

Sheet G&S2526
A2: Full Cube - Full cube data
A3: A1P320 - PAEDS NEUROLOGY / EEG
A4: MODEL_A-act-1 - .
A5: 4AGDS100 - GOODS
A6: /FY25/12 - March
A7: S2
C8: CURRENT PERIOD | F8: YTD | I8: WHOLE TIME EQUIVALENT | L8: FULL ALLOCATION | M8: FULL NOTE | N8: COMMENTS
C9: BUDGET | D9: ACTUALS | E9: VARIANCE | F9: BUDGET | G9: ACTUALS | H9: VARIANCE | I9: FSL | J9: WTE | K9: VAR
A10: A1P320 | B10: PAEDS NEUROLOGY / EEG | C10: 500 | D10: 1034.45 | E10: 534.45 | F10: 6338 | G10: 23492.47 | H10: 17154.47 | I10: 0 | J10: 0 | K10: 0 | L10: 6338
A11: 300B1200 | B11: DI&R CONSUMABLES | C11: 0 | D11: 32.39 | E11: 32.39 | F11: 0 | G11: 32.39 | H11: 32.39 | I11: 0 | J11: 0 | K11: 0 | L11: 0
A12: 300B1210 | B12: DI&R EQUIPMENT | C12: 0 | D12: 0 | E12: 0 | F12: 0 | G12: 2310.75 | H12: 2310.75 | I12: 0 | J12: 0 | K12: 0 | L12: 0
A13: 301B2200 | B13: DRUGS - GENERAL | C13: 0 | D13: 16.82 | E13: 16.82 | F13: 0 | G13: 2822.52 | H13: 2822.52 | I13: 0 | J13: 0 | K13: 0 | L13: 0
A14: 301B3200 | B14: DRESSINGS | C14: 0 | D14: 93.06 | E14: 93.06 | F14: 0 | G14: 206.55 | H14: 206.55 | I14: 0 | J14: 0 | K14: 0 | L14: 0
A15: 301B4200 | B15: M&S SUPPLIES | C15: 500 | D15: 0 | E15: -500 | F15: 6000 | G15: 7262.69 | H15: 1262.69 | I15: 0 | J15: 0 | K15: 0 | L15: 6000
A16: 301B4210 | B16: M&S DISPOSABLES | C16: 0 | D16: 0 | E16: 0 | F16: 302 | G16: 351.57 | H16: 49.57 | I16: 0 | J16: 0 | K16: 0 | L16: 302
A17: 301B4220 | B17: M&S EQUIPMENT | C17: 0 | D17: 0 | E17: 0 | F17: 0 | G17: 10.64 | H17: 10.64 | I17: 0 | J17: 0 | K17: 0 | L17: 0
A18: 302B7200 | B18: LAB CONSUMABLES | C18: 0 | D18: 0 | E18: 0 | F18: 0 | G18: 5341.84 | H18: 5341.84 | I18: 0 | J18: 0 | K18: 0 | L18: 0
A19: 302B7260 | B19: LAB MISCELLANEOUS | C19: 0 | D19: 0 | E19: 0 | F19: 0 | G19: 49.9 | H19: 49.9 | I19: 0 | J19: 0 | K19: 0 | L19: 0
A20: 302B7910 | B20: LAB RECHARGES EXTERNAL | C20: 0 | D20: 661.54 | E20: 661.54 | F20: 0 | G20: 943.5 | H20: 943.5 | I20: 0 | J20: 0 | K20: 0 | L20: 0
A21: 520B1200 | B21: CLEANING SUPPLIES | C21: 0 | D21: 2.12 | E21: 2.12 | F21: 0 | G21: 140.25 | H21: 140.25 | I21: 0 | J21: 0 | K21: 0 | L21: 0
... A39: 650B9997 | B39: DEFAULT PURCHASES ACCOUNT | C39: 0 | D39: 0 | E39: 0 | F39: 0 | G39: 130.88 | H39: 130.88 | I39: 0 | J39: 0 | K39: 0 | L39: 0

Sheet G&S2425
A2: Full Cube - Full cube data
A3: A1P320 - PAEDS NEUROLOGY / EEG
A4: MODEL_A-act-1 - .
A5: 4AGDS100 - GOODS
A6: /FY24/12 - March
A7: S2
C8: CURRENT PERIOD | F8: YTD | I8: WHOLE TIME EQUIVALENT | L8: FULL ALLOCATION | M8: FULL NOTE | N8: COMMENTS
C9: BUDGET | D9: ACTUALS | E9: VARIANCE | F9: BUDGET | G9: ACTUALS | H9: VARIANCE | I9: FSL | J9: WTE | K9: VAR
A10: A1P320 | B10: PAEDS NEUROLOGY / EEG | C10: 500 | D10: 726.79 | E10: 226.79 | F10: 6545 | G10: 12705.84 | H10: 6160.84 | I10: 0 | J10: 0 | K10: 0 | L10: 6545 | N10: disposable electrodes required
A11: 300B1200 | B11: DI&R CONSUMABLES | C11: 0 | D11: 0 | E11: 0 | F11: 0 | G11: 41 | H11: 41 | I11: 0 | J11: 0 | K11: 0 | L11: 0
A12: 300B1210 | B12: DI&R EQUIPMENT | C12: 0 | D12: 38.5 | E12: 38.5 | F12: 0 | G12: 83.5 | H12: 83.5 | I12: 0 | J12: 0 | K12: 0 | L12: 0
A13: 300B1270 | B13: MISCELLANEOUS DI&R | C13: 0 | D13: 275 | E13: 275 | F13: 0 | G13: 275 | H13: 275 | I13: 0 | J13: 0 | K13: 0 | L13: 0
A14: 301B2200 | B14: DRUGS - GENERAL | C14: 0 | D14: 20.44 | E14: 20.44 | F14: 0 | G14: 231.75 | H14: 231.75 | I14: 0 | J14: 0 | K14: 0 | L14: 0
A15: 301B3200 | B15: DRESSINGS | C15: 0 | D15: 0 | E15: 0 | F15: 0 | G15: 128.22 | H15: 128.22 | I15: 0 | J15: 0 | K15: 0 | L15: 0
A16: 301B4200 | B16: M&S SUPPLIES | C16: 500 | D16: 0 | E16: -500 | F16: 6000 | G16: 7994.14 | H16: 1994.14 | I16: 0 | J16: 0 | K16: 0 | L16: 6000
A17: 301B4210 | B17: M&S DISPOSABLES | C17: 0 | D17: 0 | E17: 0 | F17: 423 | G17: 422.69 | H17: -0.31 | I17: 0 | J17: 0 | K17: 0 | L17: 423
A18: 301B4220 | B18: M&S EQUIPMENT | C18: 0 | D18: 34.55 | E18: 34.55 | F18: 0 | G18: 120.71 | H18: 120.71 | I18: 0 | J18: 0 | K18: 0 | L18: 0
A19: 302B7200 | B19: LAB CONSUMABLES | C19: 0 | D19: 0 | E19: 0 | F19: 0 | G19: 1538.08 | H19: 1538.08 | I19: 0 | J19: 0 | K19: 0 | L19: 0
A20: 520B1200 | B20: CLEANING SUPPLIES | C20: 0 | D20: 0 | E20: 0 | F20: 0 | G20: 19.84 | H20: 19.84 | I20: 0 | J20: 0 | K20: 0 | L20: 0
A21: 520B1210 | B21: CLEANING EQUIPMENT | C21: 0 | D21: 0 | E21: 0 | F21: 0 | G21: 9.12 | H21: 9.12 | I21: 0 | J21: 0 | K21: 0 | L21: 0
A22: 510B2290 | B22: GENERAL GROCERIES | C22: 0 | D22: 21.31 | E22: 21.31 | F22: 0 | G22: 77.9 | H22: 77.9 | I22: 0 | J22: 0 | K22: 0 | L22: 0
... A35: 650B9997 | B35: DEFAULT PURCHASES ACCOUNT | C35: 0 | D35: 5.5 | E35: 5.5 | F35: 0 | G35: 123 | H35: 123 | I35: 0 | J35: 0 | K35: 0 | L35: 0

Sheet G&S2324
A2: Full Cube - Full cube data
A3: A1P320 - PAEDS NEUROLOGY / EEG
A4: MODEL_A-act-1 - .
A5: 4AGDS100 - GOODS
A6: /FY23/12 - March
A7: S2
C8: CURRENT PERIOD | F8: YTD | I8: WHOLE TIME EQUIVALENT | L8: FULL ALLOCATION | M8: FULL NOTE | N8: COMMENTS
C9: BUDGET | D9: ACTUALS | E9: VARIANCE | F9: BUDGET | G9: ACTUALS | H9: VARIANCE | I9: FSL | J9: WTE | K9: VAR
A10: A1P320 | B10: PAEDS NEUROLOGY / EEG | C10: 500 | D10: 1266.91 | E10: 766.91 | F10: 6329 | G10: 9887.92 | H10: 3558.92 | I10: 0 | J10: 0 | K10: 0 | L10: 6329
A11: 301B2200 | B11: DRUGS - GENERAL | C11: 0 | D11: 8.7 | E11: 8.7 | F11: 0 | G11: 456.71 | H11: 456.71 | I11: 0 | J11: 0 | K11: 0 | L11: 0
A12: 301B3200 | B12: DRESSINGS | C12: 0 | D12: 14.87 | E12: 14.87 | F12: 0 | G12: 294.78 | H12: 294.78 | I12: 0 | J12: 0 | K12: 0 | L12: 0
A13: 301B4200 | B13: M&S SUPPLIES | C13: 500 | D13: 644 | E13: 144 | F13: 6000 | G13: 943.07 | H13: -5056.93 | I13: 0 | J13: 0 | K13: 0 | L13: 6000
A14: 301B4210 | B14: M&S DISPOSABLES | C14: 0 | D14: 0 | E14: 0 | F14: 260 | G14: 260 | H14: 0 | I14: 0 | J14: 0 | K14: 0 | L14: 260
A15: 302B7200 | B15: LAB CONSUMABLES | C15: 0 | D15: 187.94 | E15: 187.94 | F15: 0 | G15: 4938.89 | H15: 4938.89 | I15: 0 | J15: 0 | K15: 0 | L15: 0
A16: 302B7250 | B16: LAB DISPOSABLES | C16: 0 | D16: 0 | E16: 0 | F16: 0 | G16: 1915.07 | H16: 1915.07 | I16: 0 | J16: 0 | K16: 0 | L16: 0
A17: 520B1200 | B17: CLEANING SUPPLIES | C17: 0 | D17: 0 | E17: 0 | F17: 0 | G17: 83.58 | H17: 83.58 | I17: 0 | J17: 0 | K17: 0 | L17: 0
A18: 520B1210 | B18: CLEANING EQUIPMENT | C18: 0 | D18: 0 | E18: 0 | F18: 0 | G18: 1.14 | H18: 1.14 | I18: 0 | J18: 0 | K18: 0 | L18: 0
A19: 510B2290 | B19: GENERAL GROCERIES | C19: 0 | D19: 0 | E19: 0 | F19: 0 | G19: 11.85 | H19: 11.85 | I19: 0 | J19: 0 | K19: 0 | L19: 0
A20: 580B7210 | B20: BEDDING & LINEN DISPOSABLES | C20: 0 | D20: 0 | E20: 0 | F20: 69 | G20: 90.83 | H20: 21.83 | I20: 0 | J20: 0 | K20: 0 | L20: 69
A21: 410B1200 | B21: PRINTING | C21: 0 | D21: 0 | E21: 0 | F21: 0 | G21: 114.6 | H21: 114.6 | I21: 0 | J21: 0 | K21: 0 | L21: 0
... A28: 650B9997 | B28: DEFAULT PURCHASES ACCOUNT | C28: 0 | D28: 0 | E28: 0 | F28: 0 | G28: 58.5 | H28: 58.5 | I28: 0 | J28: 0 | K28: 0 | L28: 0

Sheet G&S2223
A2: Full Cube - Full cube data
A3: A1P320 - PAEDS NEUROLOGY / EEG
A4: MODEL_A-act-1 - .
A5: 4AGDS100 - GOODS
A6: /FY22/12 - March
A7: S2
C8: CURRENT PERIOD | F8: YTD | I8: WHOLE TIME EQUIVALENT | L8: FULL ALLOCATION | M8: FULL NOTE | N8: COMMENTS
C9: BUDGET | D9: ACTUALS | E9: VARIANCE | F9: BUDGET | G9: ACTUALS | H9: VARIANCE | I9: FSL | J9: WTE | K9: VAR
A10: A1P320 | B10: PAEDS NEUROLOGY / EEG | C10: 500 | D10: 3104.38 | E10: 2604.38 | F10: 6000 | G10: 13596.57 | H10: 7596.57 | I10: 0 | J10: 0 | K10: 0 | L10: 6000
A11: 301B2200 | B11: DRUGS - GENERAL | C11: 0 | D11: 15.78 | E11: 15.78 | F11: 0 | G11: 280.65 | H11: 280.65 | I11: 0 | J11: 0 | K11: 0 | L11: 0
A12: 301B3200 | B12: DRESSINGS | C12: 0 | D12: 33.12 | E12: 33.12 | F12: 0 | G12: 283.85 | H12: 283.85 | I12: 0 | J12: 0 | K12: 0 | L12: 0
A13: 301B4200 | B13: M&S SUPPLIES | C13: 500 | D13: 0 | E13: -500 | F13: 6000 | G13: 304.2 | H13: -5695.8 | I13: 0 | J13: 0 | K13: 0 | L13: 6000
A14: 302B7200 | B14: LAB CONSUMABLES | C14: 0 | D14: 2959.91 | E14: 2959.91 | F14: 0 | G14: 12210.12 | H14: 12210.12 | I14: 0 | J14: 0 | K14: 0 | L14: 0
A15: 520B1200 | B15: CLEANING SUPPLIES | C15: 0 | D15: 28.98 | E15: 28.98 | F15: 0 | G15: 85.67 | H15: 85.67 | I15: 0 | J15: 0 | K15: 0 | L15: 0
A16: 520B1210 | B16: CLEANING EQUIPMENT | C16: 0 | D16: 0 | E16: 0 | F16: 0 | G16: 5.27 | H16: 5.27 | I16: 0 | J16: 0 | K16: 0 | L16: 0
A17: 510B2290 | B17: GENERAL GROCERIES | C17: 0 | D17: 3.05 | E17: 3.05 | F17: 0 | G17: 13.44 | H17: 13.44 | I17: 0 | J17: 0 | K17: 0 | L17: 0
A18: 550B3200 | B18: HARDWARE & CROCKERY SUPPLIES | C18: 0 | D18: 0 | E18: 0 | F18: 0 | G18: 1.33 | H18: 1.33 | I18: 0 | J18: 0 | K18: 0 | L18: 0
A19: 560B4200 | B19: STAFF UNIFORMS SUPPLIES | C19: 0 | D19: 0 | E19: 0 | F19: 0 | G19: 138.24 | H19: 138.24 | I19: 0 | J19: 0 | K19: 0 | L19: 0
A20: 410B1200 | B20: PRINTING | C20: 0 | D20: 18.2 | E20: 18.2 | F20: 0 | G20: 43.8 | H20: 43.8 | I20: 0 | J20: 0 | K20: 0 | L20: 0
A21: 410B1210 | B21: STATIONERY SUPPLIES | C21: 0 | D21: 13.67 | E21: 13.67 | F21: 0 | G21: 40.18 | H21: 40.18 | I21: 0 | J21: 0 | K21: 0 | L21: 0
... A26: 650B9997 | B26: DEFAULT PURCHASES ACCOUNT | C26: 0 | D26: 22.5 | E26: 22.5 | F26: 0 | G26: 67.5 | H26: 67.5 | I26: 0 | J26: 0 | K26: 0 | L26: 0
